Workbook

Sheet Summary
B2: Go Up a Level | M2: Treasures | P2: Item Bonus | S2: Door | V2: Monster Levels
B3: Count: | C3: =COUNTIF(Treasure!$G$2:$G$90,"Go Up a Level*") -> 9 | M3: Count: | N3: =COUNTA(Treasure!A2:A90) -> 72 | P3: 3 | S3: Count: | T3: =COUNTA(Door!A2:A190) -> 94 | V3: 10
B4: Probability: | C4: =C3/N3 -> 0.125 | P4: 2 | V4: 8
P5: 4 | V5: 12
P6: 3 | V6: 18
P7: 2 | V7: 1
P8: 3 | V8: 1
B9: Class/Race Cards | C9: Dwarf | D9: Elf | E9: Halfling | F9: Cleric | G9: Thief | H9: Warrior | I9: Wizard | P9: 3 | V9: 8
B10: Count: | C10: =COUNTIF(Door!$A$2:$A$190,"Dwarf") -> 3 | D10: =COUNTIF(Door!$A$2:$A$190,"Elf") -> 3 | E10: =COUNTIF(Door!$A$2:$A$190,"Halfling") -> 3 | F10: =COUNTIF(Door!$A$2:$A$190,"Cleric") -> 3 | G10: =COUNTIF(Door!$A$2:$A$190,"Thief") -> 3 | H10: =COUNTIF(Door!$A$2:$A$190,"Warrior") -> 3 | I10: =COUNTIF(Door!$A$2:$A$190,"Wizard") -> 3 | P10: 4 | V10: 10
B11: Treasures Affected: | C11: =COUNTIF(Treasure!$F$2:$F$90,"Only Dwarf") -> 2 | D11: =COUNTIF(Treasure!$F$2:$F$90,"Only Elf")+COUNTIFS(Treasure!$G$2:$G$90,"*Elves*",Treasure!$F$2:$F$90,"") -> 4 | E11: =COUNTIF(Treasure!$F$2:$F$90,"Only Halfling")+COUNTIFS(Treasure!$G$2:$G$90,"*Halflings*",Treasure!$F$2:$F$90,"") -> 2 | F11: =COUNTIF(Treasure!$F$2:$F$90,"Only Cleric") -> 2 | G11: =COUNTIF(Treasure!$F$2:$F$90,"Only Thief") -> 2 | H11: =COUNTIF(Treasure!$F$2:$F$90,"Only Warrior") -> 1 | I11: =COUNTIF(Treasure!$F$2:$F$90,"Only Wizard") -> 2 | P11: 3 | V11: 2
B12: Doors Affected: | C12: =COUNTIFS(Door!$G$2:$G$190,"*Dwarf*")+COUNTIFS(Door!$F$2:$F$190,"*Dwarf*")+COUNTIFS(Door!$G$2:$G$190,"*Dwarves*")+COUNTIFS(Door!$F$2:$F$190,"*Dwarves*") -> 3 | D12: 4 | E12: =COUNTIFS(Door!$G$2:$G$190,"*Halfling*")+COUNTIFS(Door!$F$2:$F$190,"*Halfling*") -> 1 | F12: =COUNTIFS(Door!$G$2:$G$190,"*Cleric*")+COUNTIFS(Door!$F$2:$F$190,"*Cleric*") -> 6 | G12: 0 | H12: =COUNTIFS(Door!$G$2:$G$190,"*Warrior*")+COUNTIFS(Door!$F$2:$F$190,"*Warrior*") -> 2 | I12: =COUNTIFS(Door!$G$2:$G$190,"*Wizard*")+COUNTIFS(Door!$F$2:$F$190,"*Wizard*") -> 3 | P12: 1 | V12: 8
P13: 2 | V13: 2
P14: 3 | V14: 8
P15: 4 | V15: 4
P16: 1 | V16: 16
P17: 1 | V17: 14
P18: 1 | V18: 16
P19: 3 | V19: 1
B20: Monsters | P20: 1 | V20: 2
B21: Count: | C21: =COUNTIF(Door!$B$2:$B$190,"Monster")+COUNTIF(Door!$B$2:$B$190,"Undead Monster") -> 37 | D21: =37/T3 -> 0.39361702 | P21: 3 | V21: 6
B22: Undead: | C22: =COUNTIF(Door!$B$2:$B$190,"Undead Monster") -> 4 | D22: =C22/T3 -> 0.042553191 | P22: 4 | V22: 4
B23: Average Level: | C23: 8.08 | P23: 3 | V23: 1
P24: 3 | V24: 2
P25: 3 | V25: 10
P26: 3 | V26: 2
P27: 1 | V27: 6
P28: 3 | V28: 20
P29: 4 | V29: 1
P30: 3 | V30: 6
P31: 2 | V31: 6
P32: 1 | V32: 4
P33: 2 | V33: 18
P34: 1 | V34: 14
P35: 5 | V35: 12
... P37: 4 | V37: 14
O38: Sum: | P38: =SUM(P3:P37) -> 92 | V38: 12
O39: Average: | P39: =AVERAGE(P3:P37) -> 2.6285714 | V39: 16
O40: Median: | P40: =MEDIAN((P3:P37)) -> 3 | U40: Sum: | V40: =SUM(V3:V39) -> 299
U41: Average: | V41: =AVERAGE(V3:V39) -> 8.0810811
U42: Median: | V42: =MEDIAN(V3:V39) -> 8

Sheet Treasure
A1: Name | B1: Bonus | C1: Size | D1: Limits | E1: Value | F1: Class Restriction | G1: Text
A2: 1,000 Gold Pieces | B2: N/A | C2: N/A | D2: N/A | E2: N/A | F2: N/A | G2: Go Up a Level
A3: Bad-Ass Bandana | B3: 3 | C3: Small | D3: Headgear | E3: 400 | F3: Only Human | G3: N/A
A4: Boil an Anthill | B4: N/A | C4: N/A | D4: N/A | E4: N/A | F4: N/A | G4: Go Up a Level
A5: Boots of Butt-Kicking | B5: 2 | C5: Small | D5: Footgear | E5: 400 | F5: N/A | G5: N/A
A6: Boots of Running Really Fast | B6: N/A | C6: Small | D6: Footgear | E6: 400 | F6: N/A | G6: Gives you +2 to Run Away.
A7: Bow With Ribbons | B7: 4 | C7: Small | D7: 2 Hands | E7: 800 | F7: Only Elf | G7: N/A
A8: Bribe GM With Food | B8: N/A | C8: N/A | D8: N/A | E8: N/A | F8: N/A | G8: Go Up a Level
A9: Broad Sword | B9: 3 | C9: Small | D9: 1 Hand | E9: 400 | F9: Only Female | G9: N/A
A10: Buckler of Swashing | B10: 2 | C10: Small | D10: 1 Hand | E10: 400 | F10: N/A | G10: N/A
A11: Chainsaw of Bloody Dismemberment | B11: 3 | C11: Big | D11: 2 Hands | E11: 600 | F11: N/A | G11: N/A
A12: Cheese Grater of Peace | B12: 3 | C12: Small | D12: 1 Hand | E12: 400 | F12: Only Cleric | G12: N/A
A13: Cloak of Obscurity | B13: 4 | C13: Small | D13: N/A | E13: 600 | F13: Only Thief | G13: N/A
A14: Convenient Addition Error | B14: N/A | C14: N/A | D14: N/A | E14: N/A | F14: N/A | G14: Go Up a Level
A15: Cotion of Ponfusion | B15: N/A | C15: Small | D15: N/A | E15: 100 | F15: N/A | G15: Use during any combat. +3 to either side. Usable once only.
A16: Dagger of Treachery | B16: 3 | C16: Small | D16: 1 Hand | E16: 400 | F16: Only Thief | G16: N/A
A17: Doppleganger | B17: N/A | C17: Small | D17: N/A | E17: 300 | F17: N/A | G17: Summons your exact duplicate, who fights beside you, so you double your combat strength. You may use the Doppleganger only when you are the only player in the combat. Usable once only.
A18: Electric Radioactive Acid Potion | B18: N/A | C18: Small | D18: N/A | E18: 200 | F18: N/A | G18: Use during any combat. +5 to either side. Usable once only.
A19: Eleven-Foot Pole | B19: 1 | C19: Small | D19: 2 Hands | E19: 200 | F19: N/A | G19: N/A
A20: Flaming Armor | B20: 2 | C20: Small | D20: Armor | E20: 400 | F20: N/A | G20: N/A
A21: Flaming Poison Potion | B21: N/A | C21: Small | D21: N/A | E21: 100 | F21: N/A | G21: Use during any combat. +3 to either side. Usable once only.
A22: Flask of Glue | B22: N/A | C22: Small | D22: N/A | E22: 100 | F22: N/A | G22: Use when someone successfully escapes a combat for any reason. They must re-roll their escape (even if it was automatic the first time). Usable once only.
A23: Freezing Explosive Potion | B23: N/A | C23: Small | D23: N/A | E23: 100 | F23: N/A | G23: Use during any combat. +3 to either side. Usable once only.
A24: Friendship Potion | B24: N/A | C24: Small | D24: N/A | E24: 200 | F24: N/A | G24: Use during any combat. Discard all monsters in the combat. No treasure is gained, but the player may Loot The Room. Usable once only.
A25: Gentlemen's Club | B25: 3 | C25: Small | D25: 1 Hand | E25: 400 | F25: Only Male | G25: N/A
A26: Hammer of Kneecapping | B26: 4 | C26: Small | D26: 1 Hand | E26: 600 | F26: Only Dwarf | G26: N/A
A27: Helm of Courage | B27: 1 | C27: Small | D27: Headgear | E27: 200 | F27: N/A | G27: N/A
A28: Hireling | B28: 1 | C28: Small | D28: N/A | E28: N/A | F28: N/A | G28: Allows you to carry and use one extra item, even if you could not otherwise. If you lose your Hireling, the item goes, too. You may discard your hireling for an automatic escape from any monster. Keep this card in front of you, with your Treasures.
A29: Hoard! | B29: N/A | C29: N/A | D29: N/A | E29: N/A | F29: N/A | G29: Draw 3 more Treasure cards immediately. They are face-down if you drew this card face-down; otherwise, they are face-up.
A30: Horny Helmet | B30: 1 | C30: Small | D30: Headgear | E30: 600 | G30: +3 for Elves
A31: Huge Rock | B31: 3 | C31: Big | D31: 2 Hands | E31: No Value | F31: N/A | G31: N/A
A32: Invisibility Potion | B32: N/A | C32: Small | D32: N/A | E32: 200 | F32: N/A | G32: Use when your Run Away roll fails. You escape automatically. Usable once only.
A33: Invoke Obscure Rules | B33: N/A | C33: N/A | D33: N/A | E33: N/A | F33: N/A | G33: Go Up a Level
A34: Kill the Hireling | B34: N/A | C34: N/A | D34: N/A | E34: N/A | F34: N/A | G34: Go Up a Level. You can use this card only if a Hireling is in play (no matter who owns him). Discard the Hireling.
A35: Kneepads of Allure | B35: N/A | C35: Small | D35: N/A | E35: 600 | F35: N/A | G35: No player with a Level higher than yours can refuse your request for help against a monster, or even ask for a reward. You cannot gain the winning level in a combat where your helper was compelled by the Kneepads.
A36: Leather Armor | B36: 1 | C36: Small | D36: Armor | E36: 200 | F36: N/A | G36: N/A
A37: Limburger and Anchovy Sandwich | B37: 3 | C37: Small | D37: N/A | E37: 400 | F37: Only Halfling | G37: N/A
A38: Loaded Die | B38: N/A | C38: Small | D38: N/A | E38: 300 | F38: N/A | G38: Play after you roll the die, for any reason. Turn the die so the number of your choice is on top. That's your roll.
A39: Mace of Sharpness | B39: 4 | C39: Small | D39: 1 Hand | E39: 600 | F39: Only Cleric | G39: N/A
A40: Magic Lamp | B40: N/A | C40: Small | D40: N/A | E40: 500 | F40: N/A | G40: You may use the Lamp only on your turn. It summons a genie who makes a single monster vanish, even if you had already failed your Run Away roll and it was about to catch you. If it was the only monster you were facing, you may take its treasure but you don't gain a level. Usable once only.
...

Sheet Door
A1: Name | B1: Type | C1: Monster Level | D1: Levels Gained | E1: Treasure | F1: Bad Stuff | G1: Text
A2: 3,872 Orcs | B2: Monster | C2: 10 | D2: 1 | E2: 3 | F2: Roll a die. On a 2 or less, they stomp you to death. Otherwise, lose as many levels as the die shows. | G2: +6 against Dwarves, due to ancient grudges.
A3: Amazon | B3: Monster | C3: 8 | D3: 1 | E3: 2 | F3: You have had your butt kicked by a woman. Your macho munchkin pride is lost. Lose your Class(es). If you already had no Class, lose 3 levels. | G3: Will not attack females; just gives them 1 Treasure instead.
A4: Ancient | B4: Enhancer | C4: N/A | D4: N/A | E4: N/A | F4: N/A | G4: +10 to Monster. Play during combat. If the monster is defeated, draw two extra Treasures.
A5: Baby | B5: Enhancer | C5: N/A | D5: N/A | E5: N/A | F5: N/A | G5: Play during combat. If the monster is defeated, draw 1 fewer Treasure (minimum of 1).
A6: Bigfoot | B6: Monster | C6: 12 | D6: 1 | E6: 3 | F6: Stomps you flat and eats your hat. Lose the Headgear you were wearing. | G6: +3 against Dwarves.
A7: Bullrog | B7: Monster | C7: 18 | D7: 2 | E7: 5 | F7: You are flayed to death. | G7: Will not pursue anyone of Level 4 or below.
A8: Cheat! | C8: N/A | D8: N/A | E8: N/A | F8: N/A | G8: Play this card with an Item card you have in play, or when you play an Item card from your hand. This item is legal for you to use even if it otherwise would not be. Discard this card when you lose (sell, etc.) the attached item.
A9: Cleric | B9: Class | C9: N/A | D9: N/A | E9: N/A | F9: N/A | G9: Resurrection: When it is time for you to draw cards face-up, you may instead take some or all from the top of the appropriate discard pile. You must then discard one card from your hand for each card so drawn. Turning: You may discard up to 3 cards in combat against an Undead creature. Each discard gives you a +3 bonus.
A10: Cleric | B10: Class | C10: N/A | D10: N/A | E10: N/A | F10: N/A | G10: Resurrection: When it is time for you to draw cards face-up, you may instead take some or all from the top of the appropriate discard pile. You must then discard one card from your hand for each card so drawn. Turning: You may discard up to 3 cards in combat against an Undead creature. Each discard gives you a +3 bonus.
A11: Cleric | B11: Class | C11: N/A | D11: N/A | E11: N/A | F11: N/A | G11: Resurrection: When it is time for you to draw cards face-up, you may instead take some or all from the top of the appropriate discard pile. You must then discard one card from your hand for each card so drawn. Turning: You may discard up to 3 cards in combat against an Undead creature. Each discard gives you a +3 bonus.
A12: Crabs | B12: Monster | C12: 1 | D12: 1 | E12: 1 | F12: Discard armor and all items worn below the waist. | G12: Cannot be Outrun!
A13: Curse! | B13: Curse | C13: N/A | D13: N/A | E13: N/A | F13: N/A | G13: Lose a Level.
A14: Curse! | B14: Curse | C14: N/A | D14: N/A | E14: N/A | F14: N/A | G14: Lose a Level.
A15: Curse! | B15: Curse | C15: N/A | D15: N/A | E15: N/A | F15: N/A | G15: Lose the Armor You Are Wearing
A16: Curse! | B16: Curse | C16: N/A | D16: N/A | E16: N/A | F16: N/A | G16: Lose the Footgear You Are Wearing
A17: Curse! | B17: Curse | C17: N/A | D17: N/A | E17: N/A | F17: N/A | G17: Lose the Headgear You Are Wearing
A18: Curse! Change Class | B18: Curse | C18: N/A | D18: N/A | E18: N/A | F18: N/A | G18: If you have no Class now, this curse has no effect. Otherwise, go back through the discard pile, starting with the top discard. The first Class card you come to rep-laces your current Class(es). If you go through the discards without finding a Class card, you just lose your own Class(es).
A19: Curse! Change Race | B19: Curse | C19: N/A | D19: N/A | E19: N/A | F19: N/A | G19: If you have no Race now, this curse has no effect. Otherwise, go back through the discard pile, starting with the top discard. The first Race card you come to replaces your current Race(s). If you go through the discards without finding a Race card, you just lose your own Race(s).
A20: Curse! Change Sex | B20: Curse | C20: N/A | D20: N/A | E20: N/A | F20: N/A | G20: -5 to your next combat due to distraction. 77:77After that, there is no further penalty. However, the change is permanent.
A21: Curse! Chicken On Your Head | B21: Curse | C21: N/A | D21: N/A | E21: N/A | F21: N/A | G21: -1 to all your die rolls. Any Curse or Bad Stuff that removes your headgear will take the chicken with it.
A22: Curse! Duck of Doom | B22: Curse | C22: N/A | D22: N/A | E22: N/A | F22: N/A | G22: You should know better than to pick up a duck in a dungeon. Lose 2 levels.
A23: Curse! Income Tax | B23: Curse | C23: N/A | D23: N/A | E23: N/A | F23: N/A | G23: Discard one item of your choice. Every other player must now discard an item, or items, totaling at least as much value as the item you discarded. If they don’t' have enough to pay the full tax, they must discard all their items and lose a level.
A24: Curse! Lose 1 Big Item | B24: Curse | C24: N/A | D24: N/A | E24: N/A | F24: N/A | G24: Choose one Big item to discard.
... A29: Curse! Malign Mirror | B29: Curse | C29: N/A | D29: N/A | E29: N/A | F29: N/A | G29: You are cursed! In your next fight (only), you may not get any bonuses from items other than Armor. A Wishing Ring, used before the next fight, will lift the curse.
A30: Divine Intervention | C30: N/A | D30: N/A | E30: N/A | F30: N/A | G30: You must play this card as soon as you get it. All Clerics immediately go up a level. This can be the winning level. If this card makes you win, you are entitled to mock the other players mercilessly.
A31: Drooling Slime | B31: Monster | C31: 1 | D31: 1 | E31: 1 | F31: Discard the Footgear you are wearing. Lose a level if you have no Footgear. | G31: Yucky slime! +4 against Elves.
A32: Dwarf | B32: Race | C32: N/A | D32: N/A | E32: N/A | F32: N/A | G32: You can carry any number of Big items. You can have 6 cards in your hand.
A33: Dwarf | B33: Race | C33: N/A | D33: N/A | E33: N/A | F33: N/A | G33: You can carry any number of Big items. You can have 6 cards in your hand.
A34: Dwarf | B34: Race | C34: N/A | D34: N/A | E34: N/A | F34: N/A | G34: You can carry any number of Big items. You can have 6 cards in your hand.
A35: Elf | B35: Race | C35: N/A | D35: N/A | E35: N/A | F35: N/A | G35: +1 to Run Away. You go up a level for every monster you help someone else kill.
A36: Elf | B36: Race | C36: N/A | D36: N/A | E36: N/A | F36: N/A | G36: +1 to Run Away. You go up a level for every monster you help someone else kill.
A37: Elf | B37: Race | C37: N/A | D37: N/A | E37: N/A | F37: N/A | G37: +1 to Run Away. You go up a level for every monster you help someone else kill.
A38: Enraged | B38: Enhancer | C38: N/A | D38: N/A | E38: N/A | F38: N/A | G38: +5 to Monster. Play during combat. If the monster is defeated, draw one extra Treasure.
A39: Face Sucker | B39: Monster | C39: 8 | D39: 1 | E39: 2 | F39: When it sucks your face off, your Headgear goes with it. Discard the Headgear you are wearing, and lose a level. | G39: It's gross! +6 against Elves.
A40: Floating Nose | B40: Monster | C40: 10 | D40: 1 | E40: 3 | F40: It can sniff you out anywhere. If you lose, you cannot flee; nothing will help you. Lose 3 levels. | G40: If you don't want to fight the Floating Nose, you can bribe it with an item worth at least 200 Gold Pieces, and it will let you go.
A41: Flying Frogs | B41: Monster | C41: 2 | D41: 1 | E41: 1 | F41: They bite! Lose 2 levels. | G41: -1 to Run Away.
A42: Gazebo | B42: Monster | C42: 8 | D42: 1 | E42: 2 | F42: Lose 3 levels. | G42: No one can help you. You must face the Gazebo alone.
A43: Gelatinous Octahedron | B43: Monster | C43: 2 | D43: 1 | E43: 1 | F43: Drop all your Big items. | G43: +1 to Run Away.
A44: Ghoulfiends | B44: Monster | C44: 8 | D44: 1 | E44: 2 | F44: Your Level becomes equal to the lowest Level of any character in play. | G44: No items help against them - fight with your Level only.
...
